BEGIN:VCALENDAR
VERSION:2.0
PRODID:-//Catholic Cemeteries &amp; Crematoria - ECPv6.15.14//NONSGML v1.0//EN
CALSCALE:GREGORIAN
METHOD:PUBLISH
X-WR-CALNAME:Catholic Cemeteries &amp; Crematoria
X-ORIGINAL-URL:https://staging.catholiccemeteries.com.au
X-WR-CALDESC:Events for Catholic Cemeteries &amp; Crematoria
REFRESH-INTERVAL;VALUE=DURATION:PT1H
X-Robots-Tag:noindex
X-PUBLISHED-TTL:PT1H
BEGIN:VTIMEZONE
TZID:Australia/Sydney
BEGIN:STANDARD
TZOFFSETFROM:+1100
TZOFFSETTO:+1000
TZNAME:AEST
DTSTART:20230401T160000
END:STANDARD
BEGIN:DAYLIGHT
TZOFFSETFROM:+1000
TZOFFSETTO:+1100
TZNAME:AEDT
DTSTART:20230930T160000
END:DAYLIGHT
BEGIN:STANDARD
TZOFFSETFROM:+1100
TZOFFSETTO:+1000
TZNAME:AEST
DTSTART:20240406T160000
END:STANDARD
BEGIN:DAYLIGHT
TZOFFSETFROM:+1000
TZOFFSETTO:+1100
TZNAME:AEDT
DTSTART:20241005T160000
END:DAYLIGHT
BEGIN:STANDARD
TZOFFSETFROM:+1100
TZOFFSETTO:+1000
TZNAME:AEST
DTSTART:20250405T160000
END:STANDARD
BEGIN:DAYLIGHT
TZOFFSETFROM:+1000
TZOFFSETTO:+1100
TZNAME:AEDT
DTSTART:20251004T160000
END:DAYLIGHT
END:VTIMEZONE
BEGIN:VEVENT
DTSTART;TZID=Australia/Sydney:20240910T190000
DTEND;TZID=Australia/Sydney:20240910T200000
DTSTAMP:20260424T075140
CREATED:20240820T060653Z
LAST-MODIFIED:20240910T021152Z
UID:18584-1725994800-1725998400@staging.catholiccemeteries.com.au
SUMMARY:Mention My Name - St Mary's Cathedral
DESCRIPTION:Mention My Name Service of Remembrance \nPlease join us for this special remembrance service for the families and friends who have died of suicide. \nWhen: 10th September\, 2024\nWhere: St Mary’s Cathedral\, Sydney\nTime: 7pm \nVIEW LIVESTREAM \nGrief Care team members are available for pastoral support on all masses.\nP: 02 9646 6908 E: team@griefcare.com.au
URL:https://staging.catholiccemeteries.com.au/events/mention-my-name-st-marys-cathedral/
LOCATION:St Mary’s Cathedral\, Sydney\, 2 St Mary's Road\, Sydney\, NSW\, 2000
ATTACH;FMTTYPE=image/jpeg:https://staging.catholiccemeteries.com.au/wp-content/uploads/MMName-fb-0921.jpg
END:VEVENT
END:VCALENDAR