BEGIN:VCALENDAR
VERSION:2.0
PRODID:-//Catholic Cemeteries &amp; Crematoria - ECPv6.15.14//NONSGML v1.0//EN
CALSCALE:GREGORIAN
METHOD:PUBLISH
X-ORIGINAL-URL:https://staging.catholiccemeteries.com.au
X-WR-CALDESC:Events for Catholic Cemeteries &amp; Crematoria
REFRESH-INTERVAL;VALUE=DURATION:PT1H
X-Robots-Tag:noindex
X-PUBLISHED-TTL:PT1H
BEGIN:VTIMEZONE
TZID:Australia/Sydney
BEGIN:STANDARD
TZOFFSETFROM:+1100
TZOFFSETTO:+1000
TZNAME:AEST
DTSTART:20210403T160000
END:STANDARD
BEGIN:DAYLIGHT
TZOFFSETFROM:+1000
TZOFFSETTO:+1100
TZNAME:AEDT
DTSTART:20211002T160000
END:DAYLIGHT
BEGIN:STANDARD
TZOFFSETFROM:+1100
TZOFFSETTO:+1000
TZNAME:AEST
DTSTART:20220402T160000
END:STANDARD
BEGIN:DAYLIGHT
TZOFFSETFROM:+1000
TZOFFSETTO:+1100
TZNAME:AEDT
DTSTART:20221001T160000
END:DAYLIGHT
BEGIN:STANDARD
TZOFFSETFROM:+1100
TZOFFSETTO:+1000
TZNAME:AEST
DTSTART:20230401T160000
END:STANDARD
BEGIN:DAYLIGHT
TZOFFSETFROM:+1000
TZOFFSETTO:+1100
TZNAME:AEDT
DTSTART:20230930T160000
END:DAYLIGHT
END:VTIMEZONE
BEGIN:VEVENT
DTSTART;TZID=Australia/Sydney:20220712T090000
DTEND;TZID=Australia/Sydney:20220712T160000
DTSTAMP:20260424T103607
CREATED:20220608T063747Z
LAST-MODIFIED:20220608T063747Z
UID:9651-1657616400-1657641600@staging.catholiccemeteries.com.au
SUMMARY:Catholic Funeral Formation Program
DESCRIPTION:New Pastoral Formation Day: The Christian’s Final Journey \nThis pastoral formation day is designed especially for Parish Pastoral Care and Frontline Staff (includes Pastoral Associates\, Parish Secretaries\, Family Faith Educators)\, Teachers\, APRE’s and School Staff\, Catholic Cemeteries and Crematoria Staff*\, Catholic Care Staff\, Cemetery Managers\, and anyone interested in learning more about how Catholics prepare and celebrate funerals.  This formative program will investigate Catholic practices around burial and cremation\, how to support those who grieve\, and it will include the opportunity to prepare a Catholic funeral for yourself or another person. \nSession 1: Catholic Beliefs About Death and Dying \nSession 2: Rites for the Journey to New Life \nSession 3: The Order of Christian Funerals \nSession 4: Planning Your Funeral and Care of the Grieving \nDownload the Brochure \nDate: July 12\, 2022 \nTime: 9am-4pm (registration from 8.30am) \nVenue: All Saints Parish Hall\, 48 George Street\, Liverpool NSW 2170 \nRegistration Fee: $60 per person (includes tea/coffee\, lunch and a workbook) \n\nRegistration is essential by: July 1\, 2022\n\nEnquiries: CentreforLiturgy@acu.edu.au or 02 9701 4751 \nRegister Now
URL:https://staging.catholiccemeteries.com.au/events/catholic-funeral-formation-program/
LOCATION:All Saints Parish\, 48 George Street\, Liverpool\, NSW\, 2170\, Australia
ATTACH;FMTTYPE=image/jpeg:https://staging.catholiccemeteries.com.au/wp-content/uploads/funeraldirector_01.jpg
END:VEVENT
END:VCALENDAR