BEGIN:VCALENDAR
VERSION:2.0
PRODID:-//Catholic Cemeteries &amp; Crematoria - ECPv6.15.14//NONSGML v1.0//EN
CALSCALE:GREGORIAN
METHOD:PUBLISH
X-WR-CALNAME:Catholic Cemeteries &amp; Crematoria
X-ORIGINAL-URL:https://staging.catholiccemeteries.com.au
X-WR-CALDESC:Events for Catholic Cemeteries &amp; Crematoria
REFRESH-INTERVAL;VALUE=DURATION:PT1H
X-Robots-Tag:noindex
X-PUBLISHED-TTL:PT1H
BEGIN:VTIMEZONE
TZID:Australia/Sydney
BEGIN:STANDARD
TZOFFSETFROM:+1100
TZOFFSETTO:+1000
TZNAME:AEST
DTSTART:20210403T160000
END:STANDARD
BEGIN:DAYLIGHT
TZOFFSETFROM:+1000
TZOFFSETTO:+1100
TZNAME:AEDT
DTSTART:20211002T160000
END:DAYLIGHT
BEGIN:STANDARD
TZOFFSETFROM:+1100
TZOFFSETTO:+1000
TZNAME:AEST
DTSTART:20220402T160000
END:STANDARD
BEGIN:DAYLIGHT
TZOFFSETFROM:+1000
TZOFFSETTO:+1100
TZNAME:AEDT
DTSTART:20221001T160000
END:DAYLIGHT
BEGIN:STANDARD
TZOFFSETFROM:+1100
TZOFFSETTO:+1000
TZNAME:AEST
DTSTART:20230401T160000
END:STANDARD
BEGIN:DAYLIGHT
TZOFFSETFROM:+1000
TZOFFSETTO:+1100
TZNAME:AEDT
DTSTART:20230930T160000
END:DAYLIGHT
END:VTIMEZONE
BEGIN:VEVENT
DTSTART;TZID=Australia/Sydney:20221116T183000
DTEND;TZID=Australia/Sydney:20221116T193000
DTSTAMP:20260424T170147
CREATED:20221028T013709Z
LAST-MODIFIED:20221028T013709Z
UID:15980-1668623400-1668627000@staging.catholiccemeteries.com.au
SUMMARY:Mention My Name\,  Memorial Mass - Mortlake
DESCRIPTION:Please join us for this special Memorial Mass \nThis memorial mass will remember those who have lost lives through suicide or self-harm\, and\nwe pray for their grieving families\, friends\, caregivers and first responders. \nWhen: \n6.30pm Wednesday 16th November 2022 \nWhere: \nSt Patrick’s Parish\, Mortlake \n33 Gale Street\, Mortlake
URL:https://staging.catholiccemeteries.com.au/events/mention-my-name-memorial-mass-mortlake/
LOCATION:St Patricks Parish Mortlake\, 33 Gale Street\, Mortlake\, NSW\, 2137\, Australia
ATTACH;FMTTYPE=image/jpeg:https://staging.catholiccemeteries.com.au/wp-content/uploads/CCC-MMN-fb-e1666920935820.jpg
END:VEVENT
END:VCALENDAR