BEGIN:VCALENDAR
VERSION:2.0
PRODID:-//Catholic Cemeteries &amp; Crematoria - ECPv6.15.14//NONSGML v1.0//EN
CALSCALE:GREGORIAN
METHOD:PUBLISH
X-ORIGINAL-URL:https://staging.catholiccemeteries.com.au
X-WR-CALDESC:Events for Catholic Cemeteries &amp; Crematoria
REFRESH-INTERVAL;VALUE=DURATION:PT1H
X-Robots-Tag:noindex
X-PUBLISHED-TTL:PT1H
BEGIN:VTIMEZONE
TZID:Australia/Sydney
BEGIN:STANDARD
TZOFFSETFROM:+1100
TZOFFSETTO:+1000
TZNAME:AEST
DTSTART:20230401T160000
END:STANDARD
BEGIN:DAYLIGHT
TZOFFSETFROM:+1000
TZOFFSETTO:+1100
TZNAME:AEDT
DTSTART:20230930T160000
END:DAYLIGHT
BEGIN:STANDARD
TZOFFSETFROM:+1100
TZOFFSETTO:+1000
TZNAME:AEST
DTSTART:20240406T160000
END:STANDARD
BEGIN:DAYLIGHT
TZOFFSETFROM:+1000
TZOFFSETTO:+1100
TZNAME:AEDT
DTSTART:20241005T160000
END:DAYLIGHT
BEGIN:STANDARD
TZOFFSETFROM:+1100
TZOFFSETTO:+1000
TZNAME:AEST
DTSTART:20250405T160000
END:STANDARD
BEGIN:DAYLIGHT
TZOFFSETFROM:+1000
TZOFFSETTO:+1100
TZNAME:AEDT
DTSTART:20251004T160000
END:DAYLIGHT
END:VTIMEZONE
BEGIN:VEVENT
DTSTART;TZID=Australia/Sydney:20240831T103000
DTEND;TZID=Australia/Sydney:20240831T130000
DTSTAMP:20260420T103051
CREATED:20240612T004304Z
LAST-MODIFIED:20240612T004316Z
UID:18389-1725100200-1725109200@staging.catholiccemeteries.com.au
SUMMARY:Father’s Day Memorial Mass Liverpool
DESCRIPTION:Join us for our special Father’s Day Mass\nFather’s Day is a special day for many to reflect and show their love and appreciation to fathers\, grandfathers and father figures who may no longer be with us. \nTime: 10.30am\, Saturday 31 August\nWhere: The Reflection Chapel\, Liverpool Cemetery\nPresided By: Fr Anthony Fregolent \nHospitality provided after mass \nFor catering purposes please RSVP: By 23rd August to team@griefcare.com.au \nGrief Care team members are available for pastoral support on all masses.\nP: 02 9646 6908 E:team@griefcare.com.au
URL:https://staging.catholiccemeteries.com.au/events/fathers-day-memorial-mass-liverpool/
LOCATION:Liverpool Cemetery\, 207 Moore Street\, Liverpool\, NSW\, 2170\, Australia
ATTACH;FMTTYPE=image/jpeg:https://staging.catholiccemeteries.com.au/wp-content/uploads/fathers-day-24v2.jpg
END:VEVENT
END:VCALENDAR