BEGIN:VCALENDAR
VERSION:2.0
PRODID:-//Catholic Cemeteries &amp; Crematoria - ECPv6.15.14//NONSGML v1.0//EN
CALSCALE:GREGORIAN
METHOD:PUBLISH
X-WR-CALNAME:Catholic Cemeteries &amp; Crematoria
X-ORIGINAL-URL:https://staging.catholiccemeteries.com.au
X-WR-CALDESC:Events for Catholic Cemeteries &amp; Crematoria
REFRESH-INTERVAL;VALUE=DURATION:PT1H
X-Robots-Tag:noindex
X-PUBLISHED-TTL:PT1H
BEGIN:VTIMEZONE
TZID:Australia/Sydney
BEGIN:STANDARD
TZOFFSETFROM:+1100
TZOFFSETTO:+1000
TZNAME:AEST
DTSTART:20210403T160000
END:STANDARD
BEGIN:DAYLIGHT
TZOFFSETFROM:+1000
TZOFFSETTO:+1100
TZNAME:AEDT
DTSTART:20211002T160000
END:DAYLIGHT
BEGIN:STANDARD
TZOFFSETFROM:+1100
TZOFFSETTO:+1000
TZNAME:AEST
DTSTART:20220402T160000
END:STANDARD
BEGIN:DAYLIGHT
TZOFFSETFROM:+1000
TZOFFSETTO:+1100
TZNAME:AEDT
DTSTART:20221001T160000
END:DAYLIGHT
BEGIN:STANDARD
TZOFFSETFROM:+1100
TZOFFSETTO:+1000
TZNAME:AEST
DTSTART:20230401T160000
END:STANDARD
BEGIN:DAYLIGHT
TZOFFSETFROM:+1000
TZOFFSETTO:+1100
TZNAME:AEDT
DTSTART:20230930T160000
END:DAYLIGHT
END:VTIMEZONE
BEGIN:VEVENT
DTSTART;TZID=Australia/Sydney:20220727T090000
DTEND;TZID=Australia/Sydney:20220727T093000
DTSTAMP:20260424T052143
CREATED:20220720T225132Z
LAST-MODIFIED:20220720T225132Z
UID:15342-1658912400-1658914200@staging.catholiccemeteries.com.au
SUMMARY:Press Pause Online Meditation
DESCRIPTION:Press Pause Online Meditation \nJoin us weekly and gift yourself 30 minutes to Press Pause…and rest a while.\n\nWhen: Weekly on Wednesdays\nTime: 9am – 9.30am \nJoin us on Zoom
URL:https://staging.catholiccemeteries.com.au/events/press-pause-online-meditation/
LOCATION:NSW
ATTACH;FMTTYPE=image/jpeg:https://staging.catholiccemeteries.com.au/wp-content/uploads/Press-Pause_FB_0721.jpg
END:VEVENT
END:VCALENDAR