BEGIN:VCALENDAR
VERSION:2.0
PRODID:-//Catholic Cemeteries &amp; Crematoria - ECPv6.15.14//NONSGML v1.0//EN
CALSCALE:GREGORIAN
METHOD:PUBLISH
X-WR-CALNAME:Catholic Cemeteries &amp; Crematoria
X-ORIGINAL-URL:https://staging.catholiccemeteries.com.au
X-WR-CALDESC:Events for Catholic Cemeteries &amp; Crematoria
REFRESH-INTERVAL;VALUE=DURATION:PT1H
X-Robots-Tag:noindex
X-PUBLISHED-TTL:PT1H
BEGIN:VTIMEZONE
TZID:Australia/Sydney
BEGIN:STANDARD
TZOFFSETFROM:+1100
TZOFFSETTO:+1000
TZNAME:AEST
DTSTART:20210403T160000
END:STANDARD
BEGIN:DAYLIGHT
TZOFFSETFROM:+1000
TZOFFSETTO:+1100
TZNAME:AEDT
DTSTART:20211002T160000
END:DAYLIGHT
BEGIN:STANDARD
TZOFFSETFROM:+1100
TZOFFSETTO:+1000
TZNAME:AEST
DTSTART:20220402T160000
END:STANDARD
BEGIN:DAYLIGHT
TZOFFSETFROM:+1000
TZOFFSETTO:+1100
TZNAME:AEDT
DTSTART:20221001T160000
END:DAYLIGHT
BEGIN:STANDARD
TZOFFSETFROM:+1100
TZOFFSETTO:+1000
TZNAME:AEST
DTSTART:20230401T160000
END:STANDARD
BEGIN:DAYLIGHT
TZOFFSETFROM:+1000
TZOFFSETTO:+1100
TZNAME:AEDT
DTSTART:20230930T160000
END:DAYLIGHT
END:VTIMEZONE
BEGIN:VEVENT
DTSTART;TZID=Australia/Sydney:20220426T100000
DTEND;TZID=Australia/Sydney:20220426T110000
DTSTAMP:20260424T081838
CREATED:20220305T064701Z
LAST-MODIFIED:20220305T064701Z
UID:9251-1650967200-1650970800@staging.catholiccemeteries.com.au
SUMMARY:Ageing Well Masterclass 5 – Liverpool
DESCRIPTION:Ageing Well – Liverpool\nMasterclass 5 – Ageing Gracefully\, Living Fruitfully\nThey shall bear fruit in old age. They shall be fresh and flourishing’ Psalm 92: 12 -13\nCatholic spirituality of ageing exploring blessings and challenges for a more faith filled life \nWhen: Weekly at 10am\, starting on the 29th March\nWhere: All Saints Parish\, Liverpool
URL:https://staging.catholiccemeteries.com.au/events/ageing-well-masterclass-5-liverpool/
LOCATION:NSW
END:VEVENT
BEGIN:VEVENT
DTSTART;TZID=Australia/Sydney:20220426T193000
DTEND;TZID=Australia/Sydney:20220426T203000
DTSTAMP:20260424T081838
CREATED:20220305T063756Z
LAST-MODIFIED:20220305T063756Z
UID:9241-1651001400-1651005000@staging.catholiccemeteries.com.au
SUMMARY:Ageing Well Masterclass 4 – Haberfield
DESCRIPTION:Ageing Well – Haberfield\nMasterclass 4 – Financial Planning for Retirement and Beyond\nFinancial experts help you map out your financial needs in retirement\, we’ll also look at what to prepare for financially and legally from the NSW Trustee & Guardian. \nWhen: Weekly at 7.30pm\, starting on the 29th March\nWhere:St Joan Of Arc School\, 88 Dalhousie St\, Haberfield
URL:https://staging.catholiccemeteries.com.au/events/ageing-well-masterclass-4-haberfield/
LOCATION:NSW
END:VEVENT
END:VCALENDAR