BEGIN:VCALENDAR
VERSION:2.0
PRODID:-//Catholic Cemeteries &amp; Crematoria - ECPv6.15.14//NONSGML v1.0//EN
CALSCALE:GREGORIAN
METHOD:PUBLISH
X-WR-CALNAME:Catholic Cemeteries &amp; Crematoria
X-ORIGINAL-URL:https://staging.catholiccemeteries.com.au
X-WR-CALDESC:Events for Catholic Cemeteries &amp; Crematoria
REFRESH-INTERVAL;VALUE=DURATION:PT1H
X-Robots-Tag:noindex
X-PUBLISHED-TTL:PT1H
BEGIN:VTIMEZONE
TZID:Australia/Sydney
BEGIN:STANDARD
TZOFFSETFROM:+1100
TZOFFSETTO:+1000
TZNAME:AEST
DTSTART:20210403T160000
END:STANDARD
BEGIN:DAYLIGHT
TZOFFSETFROM:+1000
TZOFFSETTO:+1100
TZNAME:AEDT
DTSTART:20211002T160000
END:DAYLIGHT
BEGIN:STANDARD
TZOFFSETFROM:+1100
TZOFFSETTO:+1000
TZNAME:AEST
DTSTART:20220402T160000
END:STANDARD
BEGIN:DAYLIGHT
TZOFFSETFROM:+1000
TZOFFSETTO:+1100
TZNAME:AEDT
DTSTART:20221001T160000
END:DAYLIGHT
BEGIN:STANDARD
TZOFFSETFROM:+1100
TZOFFSETTO:+1000
TZNAME:AEST
DTSTART:20230401T160000
END:STANDARD
BEGIN:DAYLIGHT
TZOFFSETFROM:+1000
TZOFFSETTO:+1100
TZNAME:AEDT
DTSTART:20230930T160000
END:DAYLIGHT
END:VTIMEZONE
BEGIN:VEVENT
DTSTART;TZID=Australia/Sydney:20220406T140000
DTEND;TZID=Australia/Sydney:20220406T150000
DTSTAMP:20260424T092806
CREATED:20220305T062737Z
LAST-MODIFIED:20220305T062737Z
UID:9233-1649253600-1649257200@staging.catholiccemeteries.com.au
SUMMARY:Ageing Well Masterclass 4 – Lidcombe
DESCRIPTION:Ageing Well – Lidcombe\nMasterclass 4 – Financial Planning for Retirement and Beyond\nFinancial experts help you map out your financial needs in retirement\, we’ll also look at what to prepare for financially and legally from the NSW Trustee & Guardian. \nLIDCOMBE\nWhen: Weekly at 2pm\, starting Wednesday 16 March\nWhere: Dooleys Catholic Club\, 11-17 Church St\, Lidcombe
URL:https://staging.catholiccemeteries.com.au/events/ageing-well-masterclass-4-lidcombe/
LOCATION:NSW
END:VEVENT
END:VCALENDAR