BEGIN:VCALENDAR
VERSION:2.0
PRODID:-//Catholic Cemeteries &amp; Crematoria - ECPv6.15.14//NONSGML v1.0//EN
CALSCALE:GREGORIAN
METHOD:PUBLISH
X-ORIGINAL-URL:https://staging.catholiccemeteries.com.au
X-WR-CALDESC:Events for Catholic Cemeteries &amp; Crematoria
REFRESH-INTERVAL;VALUE=DURATION:PT1H
X-Robots-Tag:noindex
X-PUBLISHED-TTL:PT1H
BEGIN:VTIMEZONE
TZID:Australia/Sydney
BEGIN:STANDARD
TZOFFSETFROM:+1100
TZOFFSETTO:+1000
TZNAME:AEST
DTSTART:20210403T160000
END:STANDARD
BEGIN:DAYLIGHT
TZOFFSETFROM:+1000
TZOFFSETTO:+1100
TZNAME:AEDT
DTSTART:20211002T160000
END:DAYLIGHT
BEGIN:STANDARD
TZOFFSETFROM:+1100
TZOFFSETTO:+1000
TZNAME:AEST
DTSTART:20220402T160000
END:STANDARD
BEGIN:DAYLIGHT
TZOFFSETFROM:+1000
TZOFFSETTO:+1100
TZNAME:AEDT
DTSTART:20221001T160000
END:DAYLIGHT
BEGIN:STANDARD
TZOFFSETFROM:+1100
TZOFFSETTO:+1000
TZNAME:AEST
DTSTART:20230401T160000
END:STANDARD
BEGIN:DAYLIGHT
TZOFFSETFROM:+1000
TZOFFSETTO:+1100
TZNAME:AEDT
DTSTART:20230930T160000
END:DAYLIGHT
END:VTIMEZONE
BEGIN:VEVENT
DTSTART;TZID=Australia/Sydney:20220329T100000
DTEND;TZID=Australia/Sydney:20220329T110000
DTSTAMP:20260424T092936
CREATED:20220305T010803Z
LAST-MODIFIED:20220305T010803Z
UID:9222-1648548000-1648551600@staging.catholiccemeteries.com.au
SUMMARY:Ageing Well Masterclasses – Liverpool
DESCRIPTION:Ageing Well Masterclasses – Liverpool\nDelivered in 5 weekly installments\, the Ageing Well masterclasses are designed to provide practical advice and support to help you navigate some of the issues around ageing\, along with information about the services available to you. \nMasterclass 1 – Social Connection and Psychological Wellbeing \nMasterclass 2 – Physical Wellbeing \nMasterclass 3 – Navigating Aged Care \nMasterclass 4 – Financial planning for retirement and beyond \nMasterclass 5 – Ageing Gracefully\, Living Fruitfully \nREGISTER AT LIVERPOOL NOW\nWhen: Weekly at 10am\, starting on the 29th March\nWhere: All Saints Parish\, Liverpool
URL:https://staging.catholiccemeteries.com.au/events/ageing-well-masterclasses-for-seniors-2/
LOCATION:All Saints Parish Liverpool\, 48 George Street\, Liverpool\, NSW\, 2170\, Australia
ATTACH;FMTTYPE=image/png:https://staging.catholiccemeteries.com.au/wp-content/uploads/Physical_Wellbeing_Ageing_Well_thumb.width-500.png
END:VEVENT
BEGIN:VEVENT
DTSTART;TZID=Australia/Sydney:20220329T193000
DTEND;TZID=Australia/Sydney:20220329T203000
DTSTAMP:20260424T092936
CREATED:20220305T010258Z
LAST-MODIFIED:20220305T010258Z
UID:9219-1648582200-1648585800@staging.catholiccemeteries.com.au
SUMMARY:Ageing Well Masterclasses – Haberfield
DESCRIPTION:Ageing Well Masterclasses – Haberfield\nDelivered in 5 weekly installments\, the Ageing Well masterclasses are designed to provide practical advice and support to help you navigate some of the issues around ageing\, along with information about the services available to you. \nMasterclass 1 – Social Connection and Psychological Wellbeing \nMasterclass 2 – Physical Wellbeing \nMasterclass 3 – Navigating Aged Care \nMasterclass 4 – Financial planning for retirement and beyond \nMasterclass 5 – Ageing Gracefully\, Living Fruitfully \n\nREGISTER AT HABERFIELD NOW\nWhen: Weekly at 7.30pm\, starting on the 29th March\nWhere: St Joan Of Arc Primary School\, 88 Dalhousie Street\, Haberfield\, NSW 2045
URL:https://staging.catholiccemeteries.com.au/events/ageing-well-masterclasses-for-seniors/
LOCATION:Joan of Arc School Haberfied\, 88 Dalhousie Street\, Haberfield\, NSW\, 2045\, Australia
ATTACH;FMTTYPE=image/png:https://staging.catholiccemeteries.com.au/wp-content/uploads/Ageing-Well_Couple-dance.png
END:VEVENT
END:VCALENDAR