BEGIN:VCALENDAR
VERSION:2.0
PRODID:-//Catholic Cemeteries &amp; Crematoria - ECPv6.15.14//NONSGML v1.0//EN
CALSCALE:GREGORIAN
METHOD:PUBLISH
X-ORIGINAL-URL:https://staging.catholiccemeteries.com.au
X-WR-CALDESC:Events for Catholic Cemeteries &amp; Crematoria
REFRESH-INTERVAL;VALUE=DURATION:PT1H
X-Robots-Tag:noindex
X-PUBLISHED-TTL:PT1H
BEGIN:VTIMEZONE
TZID:Australia/Sydney
BEGIN:STANDARD
TZOFFSETFROM:+1100
TZOFFSETTO:+1000
TZNAME:AEST
DTSTART:20220402T160000
END:STANDARD
BEGIN:DAYLIGHT
TZOFFSETFROM:+1000
TZOFFSETTO:+1100
TZNAME:AEDT
DTSTART:20221001T160000
END:DAYLIGHT
BEGIN:STANDARD
TZOFFSETFROM:+1100
TZOFFSETTO:+1000
TZNAME:AEST
DTSTART:20230401T160000
END:STANDARD
BEGIN:DAYLIGHT
TZOFFSETFROM:+1000
TZOFFSETTO:+1100
TZNAME:AEDT
DTSTART:20230930T160000
END:DAYLIGHT
BEGIN:STANDARD
TZOFFSETFROM:+1100
TZOFFSETTO:+1000
TZNAME:AEST
DTSTART:20240406T160000
END:STANDARD
BEGIN:DAYLIGHT
TZOFFSETFROM:+1000
TZOFFSETTO:+1100
TZNAME:AEDT
DTSTART:20241005T160000
END:DAYLIGHT
END:VTIMEZONE
BEGIN:VEVENT
DTSTART;TZID=Australia/Sydney:20231104T103000
DTEND;TZID=Australia/Sydney:20231104T113000
DTSTAMP:20260421T035335
CREATED:20230921T085159Z
LAST-MODIFIED:20230921T085159Z
UID:17264-1699093800-1699097400@staging.catholiccemeteries.com.au
SUMMARY:All Souls Day – Liverpool Cemetery
DESCRIPTION:Please join us for this very special All Souls Day Memorial Mass of Remembrance \nTime: 10.30am\, Saturday 4th November\nWhere: Reflections Chapel\, Liverpool Cemetery\nPresider: Fr Anthony Fregolent \nHospitality will be provided after mass \nRSVP: By 1st November to marketing@catholiccemeteries.com.au \nGrief Care team members are available for pastoral support on all masses.\nP: 02 9646 6908 E:team@griefcare.com.au
URL:https://staging.catholiccemeteries.com.au/events/all-souls-day-liverpool-cemetery/
LOCATION:Liverpool Cemetery\, 207 Moore Street\, Liverpool\, NSW\, 2170\, Australia
ATTACH;FMTTYPE=image/jpeg:https://staging.catholiccemeteries.com.au/wp-content/uploads/CCC-ASD-MASS-2023-FB-e1695286128316.jpg
END:VEVENT
BEGIN:VEVENT
DTSTART;TZID=Australia/Sydney:20231115T103000
DTEND;TZID=Australia/Sydney:20231115T113000
DTSTAMP:20260421T035335
CREATED:20230921T195126Z
LAST-MODIFIED:20230921T195126Z
UID:17286-1700044200-1700047800@staging.catholiccemeteries.com.au
SUMMARY:Monthly Mass at Liverpool Cemetery
DESCRIPTION:Please join us for our Monthly Mass at Liverpool Cemetery \nTime: 10.30am \nLiverpool Cemetery\nPadre Pio Chapel \nPresided By: Fr Michael Smith \n– Hospitality provided after mass \nGrief Care team members are available for pastoral support on all masses.\nP: 02 9646 6908 E: team@griefcare.com.au
URL:https://staging.catholiccemeteries.com.au/events/monthly-mass-at-liverpool-cemetery-2/
LOCATION:Liverpool Cemetery\, 207 Moore Street\, Liverpool\, NSW\, 2170\, Australia
ATTACH;FMTTYPE=image/jpeg:https://staging.catholiccemeteries.com.au/wp-content/uploads/Floral-1-Events.jpg
END:VEVENT
END:VCALENDAR