BEGIN:VCALENDAR
VERSION:2.0
PRODID:-//Catholic Cemeteries &amp; Crematoria - ECPv6.15.14//NONSGML v1.0//EN
CALSCALE:GREGORIAN
METHOD:PUBLISH
X-ORIGINAL-URL:https://staging.catholiccemeteries.com.au
X-WR-CALDESC:Events for Catholic Cemeteries &amp; Crematoria
REFRESH-INTERVAL;VALUE=DURATION:PT1H
X-Robots-Tag:noindex
X-PUBLISHED-TTL:PT1H
BEGIN:VTIMEZONE
TZID:Australia/Sydney
BEGIN:STANDARD
TZOFFSETFROM:+1100
TZOFFSETTO:+1000
TZNAME:AEST
DTSTART:20220402T160000
END:STANDARD
BEGIN:DAYLIGHT
TZOFFSETFROM:+1000
TZOFFSETTO:+1100
TZNAME:AEDT
DTSTART:20221001T160000
END:DAYLIGHT
BEGIN:STANDARD
TZOFFSETFROM:+1100
TZOFFSETTO:+1000
TZNAME:AEST
DTSTART:20230401T160000
END:STANDARD
BEGIN:DAYLIGHT
TZOFFSETFROM:+1000
TZOFFSETTO:+1100
TZNAME:AEDT
DTSTART:20230930T160000
END:DAYLIGHT
BEGIN:STANDARD
TZOFFSETFROM:+1100
TZOFFSETTO:+1000
TZNAME:AEST
DTSTART:20240406T160000
END:STANDARD
BEGIN:DAYLIGHT
TZOFFSETFROM:+1000
TZOFFSETTO:+1100
TZNAME:AEDT
DTSTART:20241005T160000
END:DAYLIGHT
END:VTIMEZONE
BEGIN:VEVENT
DTSTART;TZID=Australia/Sydney:20230920T103000
DTEND;TZID=Australia/Sydney:20230920T113000
DTSTAMP:20260421T070916
CREATED:20230815T071750Z
LAST-MODIFIED:20230815T071750Z
UID:17152-1695205800-1695209400@staging.catholiccemeteries.com.au
SUMMARY:Monthly Mass Liverpool Cemetery
DESCRIPTION:Please join us for our Monthly Mass at Liverpool Cemetery \nTime: 10.30am \nLiverpool Cemetery\nPadre Pio Chapel \nPresided By: Fr Michael Smith \n– Hospitality provided after mass \nGrief Care team members are available for pastoral support on all masses.\nP: 02 9646 6908 E: team@griefcare.com.au
URL:https://staging.catholiccemeteries.com.au/events/monthly-mass-liverpool-cemetery-15/
LOCATION:NSW
ATTACH;FMTTYPE=image/jpeg:https://staging.catholiccemeteries.com.au/wp-content/uploads/Floral-2-Events.jpg
END:VEVENT
END:VCALENDAR