BEGIN:VCALENDAR
VERSION:2.0
PRODID:-//Catholic Cemeteries &amp; Crematoria - ECPv6.15.14//NONSGML v1.0//EN
CALSCALE:GREGORIAN
METHOD:PUBLISH
X-ORIGINAL-URL:https://staging.catholiccemeteries.com.au
X-WR-CALDESC:Events for Catholic Cemeteries &amp; Crematoria
REFRESH-INTERVAL;VALUE=DURATION:PT1H
X-Robots-Tag:noindex
X-PUBLISHED-TTL:PT1H
BEGIN:VTIMEZONE
TZID:Australia/Sydney
BEGIN:STANDARD
TZOFFSETFROM:+1100
TZOFFSETTO:+1000
TZNAME:AEST
DTSTART:20210403T160000
END:STANDARD
BEGIN:DAYLIGHT
TZOFFSETFROM:+1000
TZOFFSETTO:+1100
TZNAME:AEDT
DTSTART:20211002T160000
END:DAYLIGHT
BEGIN:STANDARD
TZOFFSETFROM:+1100
TZOFFSETTO:+1000
TZNAME:AEST
DTSTART:20220402T160000
END:STANDARD
BEGIN:DAYLIGHT
TZOFFSETFROM:+1000
TZOFFSETTO:+1100
TZNAME:AEDT
DTSTART:20221001T160000
END:DAYLIGHT
BEGIN:STANDARD
TZOFFSETFROM:+1100
TZOFFSETTO:+1000
TZNAME:AEST
DTSTART:20230401T160000
END:STANDARD
BEGIN:DAYLIGHT
TZOFFSETFROM:+1000
TZOFFSETTO:+1100
TZNAME:AEDT
DTSTART:20230930T160000
END:DAYLIGHT
END:VTIMEZONE
BEGIN:VEVENT
DTSTART;TZID=Australia/Sydney:20221012T103000
DTEND;TZID=Australia/Sydney:20221012T113000
DTSTAMP:20260423T233403
CREATED:20220915T165044Z
LAST-MODIFIED:20220915T165922Z
UID:15695-1665570600-1665574200@staging.catholiccemeteries.com.au
SUMMARY:Monthly Mass Liverpool Cemetery
DESCRIPTION:Please join us for our October Monthly Mass every 2nd Wednesday of every month \nTime: 10.30am \nAll Saints Catholic Parish\n48 George Street\, Liverpool 2170\n(parking entrance via Elizabeth Street) \nPresided By: Fr Michael Smith \nGrief Care team members are available for pastoral support on all masses.\nP: 02 9646 6908 E:team@griefcare.com.au
URL:https://staging.catholiccemeteries.com.au/events/monthly-mass-liverpool-cemetery-4/
LOCATION:All Saints Parish Liverpool\, 48 George Street\, Liverpool\, NSW\, 2170\, Australia
ATTACH;FMTTYPE=image/jpeg:https://staging.catholiccemeteries.com.au/wp-content/uploads/white-lily-on-bench-at-funeral.jpg
END:VEVENT
BEGIN:VEVENT
DTSTART;TZID=Australia/Sydney:20221013T203000
DTEND;TZID=Australia/Sydney:20221013T203000
DTSTAMP:20260423T233403
CREATED:20220929T033931Z
LAST-MODIFIED:20220929T033931Z
UID:15826-1665693000-1665693000@staging.catholiccemeteries.com.au
SUMMARY:Remembering Our Babies\, All Saints Liverpool
DESCRIPTION:We hope you can join us for at our special Remembering Our Babies Service for Pregnancy\, Infant & Child Loss \nWhen: 7.30pm\, 13th October\, 2022\nWhere: All Saints Catholic Parish\n48 George Street\, Liverpool \nAll are Welcome\n\nGrief Care team members are available for pastoral support on all masses.\nP: 02 9646 6908 E:team@griefcare.com.au
URL:https://staging.catholiccemeteries.com.au/events/remembering-our-babies-all-saints-liverpool/
LOCATION:All Saints Parish Liverpool\, 48 George Street\, Liverpool\, NSW\, 2170\, Australia
ATTACH;FMTTYPE=image/jpeg:https://staging.catholiccemeteries.com.au/wp-content/uploads/Remember-Babies-FB-e1664422734595.jpg
END:VEVENT
END:VCALENDAR