BEGIN:VCALENDAR
VERSION:2.0
PRODID:-//Catholic Cemeteries &amp; Crematoria - ECPv6.15.14//NONSGML v1.0//EN
CALSCALE:GREGORIAN
METHOD:PUBLISH
X-WR-CALNAME:Catholic Cemeteries &amp; Crematoria
X-ORIGINAL-URL:https://staging.catholiccemeteries.com.au
X-WR-CALDESC:Events for Catholic Cemeteries &amp; Crematoria
REFRESH-INTERVAL;VALUE=DURATION:PT1H
X-Robots-Tag:noindex
X-PUBLISHED-TTL:PT1H
BEGIN:VTIMEZONE
TZID:Australia/Sydney
BEGIN:STANDARD
TZOFFSETFROM:+1100
TZOFFSETTO:+1000
TZNAME:AEST
DTSTART:20220402T160000
END:STANDARD
BEGIN:DAYLIGHT
TZOFFSETFROM:+1000
TZOFFSETTO:+1100
TZNAME:AEDT
DTSTART:20221001T160000
END:DAYLIGHT
BEGIN:STANDARD
TZOFFSETFROM:+1100
TZOFFSETTO:+1000
TZNAME:AEST
DTSTART:20230401T160000
END:STANDARD
BEGIN:DAYLIGHT
TZOFFSETFROM:+1000
TZOFFSETTO:+1100
TZNAME:AEDT
DTSTART:20230930T160000
END:DAYLIGHT
BEGIN:STANDARD
TZOFFSETFROM:+1100
TZOFFSETTO:+1000
TZNAME:AEST
DTSTART:20240406T160000
END:STANDARD
BEGIN:DAYLIGHT
TZOFFSETFROM:+1000
TZOFFSETTO:+1100
TZNAME:AEDT
DTSTART:20241005T160000
END:DAYLIGHT
END:VTIMEZONE
BEGIN:VEVENT
DTSTART;TZID=Australia/Sydney:20231007T090000
DTEND;TZID=Australia/Sydney:20231007T113000
DTSTAMP:20260422T070925
CREATED:20230830T083249Z
LAST-MODIFIED:20230912T104226Z
UID:17199-1696669200-1696678200@staging.catholiccemeteries.com.au
SUMMARY:Pregnancy\, Infant + Child Loss Mass\, St Paul’s Camden
DESCRIPTION:Please join us for our Remembrance Mass for Pregnancy\, Infant + Child Loss \nWhen: 9am\, 7th October\,2023 \nWhere: St Paul’s Camden\, 26 John Street\, Camden \nAll are welcome \nGrief Care team members are available for pastoral support on all masses.\nP: 02 9646 6908 E:team@griefcare.com.au
URL:https://staging.catholiccemeteries.com.au/events/pregnancy-infant-child-loss-mass-st-pauls-camden-2/
LOCATION:St Pauls Camden\, 26 John Street\, Camden\, NSW\, 2570\, Australia
ATTACH;FMTTYPE=image/jpeg:https://staging.catholiccemeteries.com.au/wp-content/uploads/Statue-Liverpool-1.jpg
END:VEVENT
END:VCALENDAR